BEGIN:VCALENDAR
VERSION:2.0
PRODID:-//Louisiana Democratic Party - ECPv6.15.15//NONSGML v1.0//EN
CALSCALE:GREGORIAN
METHOD:PUBLISH
X-WR-CALNAME:Louisiana Democratic Party
X-ORIGINAL-URL:https://louisianadems.org
X-WR-CALDESC:Events for Louisiana Democratic Party
REFRESH-INTERVAL;VALUE=DURATION:PT1H
X-Robots-Tag:noindex
X-PUBLISHED-TTL:PT1H
BEGIN:VTIMEZONE
TZID:UTC
BEGIN:STANDARD
TZOFFSETFROM:+0000
TZOFFSETTO:+0000
TZNAME:UTC
DTSTART:20250101T000000
END:STANDARD
END:VTIMEZONE
BEGIN:VEVENT
DTSTART;TZID=UTC:20260502T080000
DTEND;TZID=UTC:20260509T180000
DTSTAMP:20260423T162614
CREATED:20260127T180212Z
LAST-MODIFIED:20260127T180212Z
UID:2681-1777708800-1778349600@louisianadems.org
SUMMARY:Early Voting - May 16th Election
DESCRIPTION:Party Primary/Municipal Primary\nClick on links below to get additional information about Early Voting. \nEarly Vote Locations \nSOS Early Vote Info
URL:https://louisianadems.org/event/early-voting-may-16th-election/
ATTACH;FMTTYPE=image/png:https://louisianadems.org/wp-content/uploads/2024/05/Events-Background-Image-1.png
END:VEVENT
BEGIN:VEVENT
DTSTART;TZID=UTC:20260516T070000
DTEND;TZID=UTC:20260516T180000
DTSTAMP:20260423T162614
CREATED:20260127T182722Z
LAST-MODIFIED:20260127T182722Z
UID:2695-1778914800-1778954400@louisianadems.org
SUMMARY:Election Day -  May 16th
DESCRIPTION:Party Primary/Municipal Primary\nFind out what is on your ballot\, where you vote\, and other info by clicking the link below. \nhttps://voterportal.sos.la.gov/Home/VoterLogin
URL:https://louisianadems.org/event/election-day-may-16th/
ATTACH;FMTTYPE=image/png:https://louisianadems.org/wp-content/uploads/2024/05/Events-Background-Image-1.png
END:VEVENT
END:VCALENDAR