BEGIN:VCALENDAR
VERSION:2.0
PRODID:-//Louisiana Democratic Party - ECPv6.15.15//NONSGML v1.0//EN
CALSCALE:GREGORIAN
METHOD:PUBLISH
X-WR-CALNAME:Louisiana Democratic Party
X-ORIGINAL-URL:https://louisianadems.org
X-WR-CALDESC:Events for Louisiana Democratic Party
REFRESH-INTERVAL;VALUE=DURATION:PT1H
X-Robots-Tag:noindex
X-PUBLISHED-TTL:PT1H
BEGIN:VTIMEZONE
TZID:UTC
BEGIN:STANDARD
TZOFFSETFROM:+0000
TZOFFSETTO:+0000
TZNAME:UTC
DTSTART:20240101T000000
END:STANDARD
END:VTIMEZONE
BEGIN:VEVENT
DTSTART;VALUE=DATE:20250308
DTEND;VALUE=DATE:20250309
DTSTAMP:20260424T202213
CREATED:20250219T154608Z
LAST-MODIFIED:20250219T160909Z
UID:2448-1741392000-1741478399@louisianadems.org
SUMMARY:Geaux Vote Online Registration Deadline - March 29th Election
DESCRIPTION:Click link to Register to Vote online. \nRegister
URL:https://louisianadems.org/event/geaux-vote-online-registration-deadline-march29th-election/
ATTACH;FMTTYPE=image/png:https://louisianadems.org/wp-content/uploads/2024/05/Events-Background-Image-1.png
END:VEVENT
BEGIN:VEVENT
DTSTART;TZID=UTC:20250308T130000
DTEND;TZID=UTC:20250308T160000
DTSTAMP:20260424T202213
CREATED:20250219T174855Z
LAST-MODIFIED:20250219T175044Z
UID:2475-1741438800-1741449600@louisianadems.org
SUMMARY:DSCC Meeting - March 8\, 2025
DESCRIPTION:
URL:https://louisianadems.org/event/dscc-meeting-march-8-2025/
LOCATION:IBEW Local Union 995\, 8181 Tom Dr\,\, Baton Rouge\, LA\, 70815
ATTACH;FMTTYPE=image/png:https://louisianadems.org/wp-content/uploads/2024/05/Events-Background-Image-1.png
END:VEVENT
BEGIN:VEVENT
DTSTART;TZID=UTC:20250315T083000
DTEND;TZID=UTC:20250322T180000
DTSTAMP:20260424T202213
CREATED:20250219T155230Z
LAST-MODIFIED:20250219T160433Z
UID:2457-1742027400-1742666400@louisianadems.org
SUMMARY:Early Voting - March 29th Election
DESCRIPTION:Click on links below to get additional information about Early Voting. \nEarly Vote Locations \nSOS Early Vote Info
URL:https://louisianadems.org/event/early-voting-march-29th-election/
ATTACH;FMTTYPE=image/png:https://louisianadems.org/wp-content/uploads/2024/05/Events-Background-Image-1.png
END:VEVENT
BEGIN:VEVENT
DTSTART;TZID=UTC:20250318T173000
DTEND;TZID=UTC:20250318T173000
DTSTAMP:20260424T202213
CREATED:20250318T141745Z
LAST-MODIFIED:20250318T141745Z
UID:2517-1742319000-1742319000@louisianadems.org
SUMMARY:2nd Cong. Dist. In Person Town Hall Meeting-New Orleans
DESCRIPTION:
URL:https://louisianadems.org/event/2nd-cong-dist-in-person-town-hall-meeting-new-orleans/
LOCATION:Dilliard University\, 2601 Gentilly Blvd\, New Orleans\, LA\, 70122
ATTACH;FMTTYPE=image/png:https://louisianadems.org/wp-content/uploads/2024/05/Events-Background-Image-1.png
END:VEVENT
BEGIN:VEVENT
DTSTART;TZID=UTC:20250318T183000
DTEND;TZID=UTC:20250318T183000
DTSTAMP:20260424T202213
CREATED:20250318T141310Z
LAST-MODIFIED:20250318T141310Z
UID:2513-1742322600-1742322600@louisianadems.org
SUMMARY:6th Cong. Dist. March Town Hall Meeting Series-Natchitoches
DESCRIPTION:
URL:https://louisianadems.org/event/6th-cong-dist-march-town-hall-meeting-series-natchitoches/
LOCATION:Council Chamber-Natchitoches\, 716 Second Street\, Natchitoches\, LA\, 71457
ATTACH;FMTTYPE=image/png:https://louisianadems.org/wp-content/uploads/2024/05/Events-Background-Image-1.png
END:VEVENT
BEGIN:VEVENT
DTSTART;TZID=UTC:20250320T183000
DTEND;TZID=UTC:20250320T183000
DTSTAMP:20260424T202213
CREATED:20250318T135857Z
LAST-MODIFIED:20250318T140049Z
UID:2505-1742495400-1742495400@louisianadems.org
SUMMARY:6th Cong. Dist. March Town Hall Meeting Series-Baton Rouge
DESCRIPTION:
URL:https://louisianadems.org/event/6th-cong-dist-march-town-hall-meeting-series-baton-rouge/
LOCATION:Baton Rouge 6th CD\, 801 Harding Blvd\, Baton Rouge\, LA\, 70807
ATTACH;FMTTYPE=image/png:https://louisianadems.org/wp-content/uploads/2024/05/Events-Background-Image-1.png
END:VEVENT
BEGIN:VEVENT
DTSTART;TZID=UTC:20250321T180000
DTEND;TZID=UTC:20250321T180000
DTSTAMP:20260424T202213
CREATED:20250318T140547Z
LAST-MODIFIED:20250318T140858Z
UID:2510-1742580000-1742580000@louisianadems.org
SUMMARY:6th Cong. Dist. March Town Hall Meeting Series-Shreveport
DESCRIPTION:
URL:https://louisianadems.org/event/6th-cong-dist-march-town-hall-meeting-series-shreveport/
LOCATION:SUSLA Metro Nursing Center\, 610 Texas St\, Shreveport\, LA\, 71101
ATTACH;FMTTYPE=image/png:https://louisianadems.org/wp-content/uploads/2024/05/Events-Background-Image-1.png
END:VEVENT
BEGIN:VEVENT
DTSTART;TZID=UTC:20250324T180000
DTEND;TZID=UTC:20250324T180000
DTSTAMP:20260424T202213
CREATED:20250318T142008Z
LAST-MODIFIED:20250318T142008Z
UID:2521-1742839200-1742839200@louisianadems.org
SUMMARY:DSCC/DPEC Strategy Session
DESCRIPTION:
URL:https://louisianadems.org/event/dscc-dpec-strategy-session/
ATTACH;FMTTYPE=image/png:https://louisianadems.org/wp-content/uploads/2024/05/Events-Background-Image-1.png
END:VEVENT
BEGIN:VEVENT
DTSTART;VALUE=DATE:20250325
DTEND;VALUE=DATE:20250326
DTSTAMP:20260424T202213
CREATED:20250219T154903Z
LAST-MODIFIED:20250219T161712Z
UID:2453-1742860800-1742947199@louisianadems.org
SUMMARY:Deadline to Request a Mail Ballot from Registrar - March 29th Election
DESCRIPTION:Online Application: You may request an absentee ballot or enroll in the Nursing Home Early Voting Program by logging in to the Louisiana Voter Portal and following these steps: \n\nClick the “Search By Voter” button.\nType in your First Name\, Last Name\, Zip Code and Birth Month and Year and then click the “Submit” button;\nClick the “Request Absentee Ballot” link found under the Quick Links heading; and\nComplete requested information and submit.\n\nNote: You must be logged in to the Voter Portal as the voter for whom the request is intended to electronically submit a request for an absentee ballot. \nPrint and Mail Application: You may also print an application to request an absentee ballot which you can complete and deliver to your parish registrar of voters. Delivery may be by U.S. Postal Service\, commercial carrier\, hand delivery or fax. If hand delivered or faxed\, the application can only be for you or your immediate family member. Select the application that applies to you: \n\nGeneral Application for Absentee by Mail Ballot  (see reasons to apply)\nDisabled Application for Absentee by Mail Ballot (see reasons to apply)\nMilitary or Overseas Application for Absentee by Mail Ballot\nNursing Home Early Voting Program\n\nView upcoming election dates. You will need to list the election dates on your application.
URL:https://louisianadems.org/event/deadline-to-request-a-mail-ballot-from-registrar-march-29th-election/
ATTACH;FMTTYPE=image/png:https://louisianadems.org/wp-content/uploads/2024/05/Events-Background-Image-1.png
END:VEVENT
BEGIN:VEVENT
DTSTART;TZID=UTC:20250327T180000
DTEND;TZID=UTC:20250327T180000
DTSTAMP:20260424T202213
CREATED:20250318T142237Z
LAST-MODIFIED:20250318T142552Z
UID:2523-1743098400-1743098400@louisianadems.org
SUMMARY:5th Cong. Dist. Caucus Meeting
DESCRIPTION:Please use link provided to connect to the meeting: \nhttps://us06web.zoom.us/meeting/register/CSONYFDZTJK41Pe6mVKuOw
URL:https://louisianadems.org/event/5th-cong-dist-caucus-meeting/
ATTACH;FMTTYPE=image/png:https://louisianadems.org/wp-content/uploads/2024/05/Events-Background-Image-1.png
END:VEVENT
BEGIN:VEVENT
DTSTART;VALUE=DATE:20250328
DTEND;VALUE=DATE:20250329
DTSTAMP:20260424T202213
CREATED:20250219T155014Z
LAST-MODIFIED:20250219T155030Z
UID:2455-1743120000-1743206399@louisianadems.org
SUMMARY:Deadline for Registrar to Receive Voted Mail Ballot - March 29th Election
DESCRIPTION:
URL:https://louisianadems.org/event/deadline-for-registrar-to-receive-voted-mail-ballot-march-29th-election/
ATTACH;FMTTYPE=image/png:https://louisianadems.org/wp-content/uploads/2024/05/Events-Background-Image-1.png
END:VEVENT
BEGIN:VEVENT
DTSTART;TZID=UTC:20250329T070000
DTEND;TZID=UTC:20250329T200000
DTSTAMP:20260424T202213
CREATED:20250219T154235Z
LAST-MODIFIED:20250219T161344Z
UID:2446-1743231600-1743278400@louisianadems.org
SUMMARY:Election Day - March 29\, 2025
DESCRIPTION:
URL:https://louisianadems.org/event/election-day-march-29-2025/
ATTACH;FMTTYPE=image/png:https://louisianadems.org/wp-content/uploads/2024/05/Events-Background-Image-1.png
END:VEVENT
END:VCALENDAR