BEGIN:VCALENDAR
VERSION:2.0
PRODID:-//Louisiana Democratic Party - ECPv6.15.15//NONSGML v1.0//EN
CALSCALE:GREGORIAN
METHOD:PUBLISH
X-WR-CALNAME:Louisiana Democratic Party
X-ORIGINAL-URL:https://louisianadems.org
X-WR-CALDESC:Events for Louisiana Democratic Party
REFRESH-INTERVAL;VALUE=DURATION:PT1H
X-Robots-Tag:noindex
X-PUBLISHED-TTL:PT1H
BEGIN:VTIMEZONE
TZID:UTC
BEGIN:STANDARD
TZOFFSETFROM:+0000
TZOFFSETTO:+0000
TZNAME:UTC
DTSTART:20240101T000000
END:STANDARD
END:VTIMEZONE
BEGIN:VEVENT
DTSTART;TZID=UTC:20250215T070000
DTEND;TZID=UTC:20250215T200000
DTSTAMP:20260424T214635
CREATED:20250211T165202Z
LAST-MODIFIED:20250211T165202Z
UID:2413-1739602800-1739649600@louisianadems.org
SUMMARY:ELECTION DAY - Special Primary Election
DESCRIPTION:Special Primary Election (Senate 14 and Senate 23)
URL:https://louisianadems.org/event/election-day-special-primary-election/
END:VEVENT
BEGIN:VEVENT
DTSTART;VALUE=DATE:20250226
DTEND;VALUE=DATE:20250227
DTSTAMP:20260424T214635
CREATED:20250219T154738Z
LAST-MODIFIED:20250219T161120Z
UID:2451-1740528000-1740614399@louisianadems.org
SUMMARY:In Person/By Mail Registration Deadline - March 29th Election
DESCRIPTION:Apply in person to register to vote at any Registrar of Voters Office. \nApply by mail by downloading the Louisiana Voter Registration Application\, completing it and mailing it to your local Registrar of Voters Office
URL:https://louisianadems.org/event/in-person-by-mail-registration-deadline-march-29th-election/
ATTACH;FMTTYPE=image/png:https://louisianadems.org/wp-content/uploads/2024/05/Events-Background-Image-1.png
END:VEVENT
END:VCALENDAR