BEGIN:VCALENDAR
VERSION:2.0
PRODID:-//Louisiana Democratic Party - ECPv6.15.15//NONSGML v1.0//EN
CALSCALE:GREGORIAN
METHOD:PUBLISH
X-WR-CALNAME:Louisiana Democratic Party
X-ORIGINAL-URL:https://louisianadems.org
X-WR-CALDESC:Events for Louisiana Democratic Party
REFRESH-INTERVAL;VALUE=DURATION:PT1H
X-Robots-Tag:noindex
X-PUBLISHED-TTL:PT1H
BEGIN:VTIMEZONE
TZID:UTC
BEGIN:STANDARD
TZOFFSETFROM:+0000
TZOFFSETTO:+0000
TZNAME:UTC
DTSTART:20230101T000000
END:STANDARD
END:VTIMEZONE
BEGIN:VEVENT
DTSTART;VALUE=DATE:20241105
DTEND;VALUE=DATE:20241106
DTSTAMP:20260425T021852
CREATED:20240522T194741Z
LAST-MODIFIED:20240624T165128Z
UID:1945-1730764800-1730851199@louisianadems.org
SUMMARY:Open Primary/ Presidential/Congressional Election Day - November 5th
DESCRIPTION:Polls open from 6:00am – 8:oopm
URL:https://louisianadems.org/event/election-day/
ATTACH;FMTTYPE=image/png:https://louisianadems.org/wp-content/uploads/2024/05/Events-Background-Image-1.png
END:VEVENT
BEGIN:VEVENT
DTSTART;VALUE=DATE:20241106
DTEND;VALUE=DATE:20241107
DTSTAMP:20260425T021852
CREATED:20240523T172332Z
LAST-MODIFIED:20240624T165229Z
UID:1988-1730851200-1730937599@louisianadems.org
SUMMARY:In Person/By Mail Registration Deadline - December 7th Election
DESCRIPTION:
URL:https://louisianadems.org/event/in-person-by-mail-registration-deadline-december-7/
ATTACH;FMTTYPE=image/png:https://louisianadems.org/wp-content/uploads/2024/05/Events-Background-Image-1.png
END:VEVENT
BEGIN:VEVENT
DTSTART;VALUE=DATE:20241116
DTEND;VALUE=DATE:20241117
DTSTAMP:20260425T021852
CREATED:20240523T172531Z
LAST-MODIFIED:20240624T165520Z
UID:1994-1731715200-1731801599@louisianadems.org
SUMMARY:Geaux Vote Online Registration Deadline - December 7th Election
DESCRIPTION:
URL:https://louisianadems.org/event/geaux-vote-online-registration-deadline-december-7/
ATTACH;FMTTYPE=image/png:https://louisianadems.org/wp-content/uploads/2024/05/Events-Background-Image-1.png
END:VEVENT
BEGIN:VEVENT
DTSTART;VALUE=DATE:20241122
DTEND;VALUE=DATE:20241201
DTSTAMP:20260425T021852
CREATED:20240523T172918Z
LAST-MODIFIED:20240624T164245Z
UID:1998-1732233600-1733011199@louisianadems.org
SUMMARY:Early Voting - December 7th Election
DESCRIPTION:
URL:https://louisianadems.org/event/early-voting-december-7/
ATTACH;FMTTYPE=image/png:https://louisianadems.org/wp-content/uploads/2024/05/Events-Background-Image-1.png
END:VEVENT
END:VCALENDAR