BEGIN:VCALENDAR
VERSION:2.0
PRODID:-//Louisiana Democratic Party - ECPv6.15.15//NONSGML v1.0//EN
CALSCALE:GREGORIAN
METHOD:PUBLISH
X-WR-CALNAME:Louisiana Democratic Party
X-ORIGINAL-URL:https://louisianadems.org
X-WR-CALDESC:Events for Louisiana Democratic Party
REFRESH-INTERVAL;VALUE=DURATION:PT1H
X-Robots-Tag:noindex
X-PUBLISHED-TTL:PT1H
BEGIN:VTIMEZONE
TZID:UTC
BEGIN:STANDARD
TZOFFSETFROM:+0000
TZOFFSETTO:+0000
TZNAME:UTC
DTSTART:20230101T000000
END:STANDARD
END:VTIMEZONE
BEGIN:VEVENT
DTSTART;VALUE=DATE:20241007
DTEND;VALUE=DATE:20241008
DTSTAMP:20260425T035051
CREATED:20240523T172243Z
LAST-MODIFIED:20240624T164202Z
UID:1986-1728259200-1728345599@louisianadems.org
SUMMARY:In Person/By Mail Registration Deadline - November 5th Election
DESCRIPTION:
URL:https://louisianadems.org/event/in-person-by-mail-registration-deadline-november-5th-election/
ATTACH;FMTTYPE=image/png:https://louisianadems.org/wp-content/uploads/2024/05/Events-Background-Image-1.png
END:VEVENT
BEGIN:VEVENT
DTSTART;TZID=UTC:20241012T190000
DTEND;TZID=UTC:20241012T220000
DTSTAMP:20260425T035051
CREATED:20240923T174734Z
LAST-MODIFIED:20240923T174801Z
UID:2318-1728759600-1728770400@louisianadems.org
SUMMARY:St. Tammany DPEC - 4th Annual Kathleen Babineaux Blanco Gala
DESCRIPTION:
URL:https://louisianadems.org/event/st-tammany-dpec-4th-annual-kathleen-babineaux-blanco-gala/
LOCATION:St. August Maison\, 153 Robert St\, Slidell\, LA\, 70458
ATTACH;FMTTYPE=image/png:https://louisianadems.org/wp-content/uploads/2024/05/Events-Background-Image-1.png
END:VEVENT
BEGIN:VEVENT
DTSTART;VALUE=DATE:20241015
DTEND;VALUE=DATE:20241016
DTSTAMP:20260425T035051
CREATED:20240523T172446Z
LAST-MODIFIED:20240624T164829Z
UID:1992-1728950400-1729036799@louisianadems.org
SUMMARY:Geaux Vote Online Registration Deadline - November 5th Election
DESCRIPTION:
URL:https://louisianadems.org/event/geaux-vote-online-registration-deadline-november-5/
ATTACH;FMTTYPE=image/png:https://louisianadems.org/wp-content/uploads/2024/05/Events-Background-Image-1.png
END:VEVENT
BEGIN:VEVENT
DTSTART;VALUE=DATE:20241018
DTEND;VALUE=DATE:20241030
DTSTAMP:20260425T035051
CREATED:20240523T172705Z
LAST-MODIFIED:20240624T164340Z
UID:1996-1729209600-1730246399@louisianadems.org
SUMMARY:Early Voting - November 5th Election
DESCRIPTION:
URL:https://louisianadems.org/event/early-voting-november-5/
ATTACH;FMTTYPE=image/png:https://louisianadems.org/wp-content/uploads/2024/05/Events-Background-Image-1.png
END:VEVENT
END:VCALENDAR