BEGIN:VCALENDAR
VERSION:2.0
PRODID:-//Louisiana Democratic Party - ECPv6.15.15//NONSGML v1.0//EN
CALSCALE:GREGORIAN
METHOD:PUBLISH
X-WR-CALNAME:Louisiana Democratic Party
X-ORIGINAL-URL:https://louisianadems.org
X-WR-CALDESC:Events for Louisiana Democratic Party
REFRESH-INTERVAL;VALUE=DURATION:PT1H
X-Robots-Tag:noindex
X-PUBLISHED-TTL:PT1H
BEGIN:VTIMEZONE
TZID:UTC
BEGIN:STANDARD
TZOFFSETFROM:+0000
TZOFFSETTO:+0000
TZNAME:UTC
DTSTART:20230101T000000
END:STANDARD
END:VTIMEZONE
BEGIN:VEVENT
DTSTART;VALUE=DATE:20250226
DTEND;VALUE=DATE:20250227
DTSTAMP:20260424T001458
CREATED:20250219T154738Z
LAST-MODIFIED:20250219T161120Z
UID:2451-1740528000-1740614399@louisianadems.org
SUMMARY:In Person/By Mail Registration Deadline - March 29th Election
DESCRIPTION:Apply in person to register to vote at any Registrar of Voters Office. \nApply by mail by downloading the Louisiana Voter Registration Application\, completing it and mailing it to your local Registrar of Voters Office
URL:https://louisianadems.org/event/in-person-by-mail-registration-deadline-march-29th-election/
LOCATION:LA
ATTACH;FMTTYPE=image/png:https://louisianadems.org/wp-content/uploads/2024/05/Events-Background-Image-1.png
END:VEVENT
BEGIN:VEVENT
DTSTART;TZID=UTC:20250215T070000
DTEND;TZID=UTC:20250215T200000
DTSTAMP:20260424T001458
CREATED:20250211T165202Z
LAST-MODIFIED:20250211T165202Z
UID:2413-1739602800-1739649600@louisianadems.org
SUMMARY:ELECTION DAY - Special Primary Election
DESCRIPTION:Special Primary Election (Senate 14 and Senate 23)
URL:https://louisianadems.org/event/election-day-special-primary-election/
LOCATION:LA
END:VEVENT
BEGIN:VEVENT
DTSTART;TZID=UTC:20241207T060000
DTEND;TZID=UTC:20241207T200000
DTSTAMP:20260424T001458
CREATED:20240523T171902Z
LAST-MODIFIED:20240624T165407Z
UID:1982-1733551200-1733601600@louisianadems.org
SUMMARY:Open General/Congressional Election Day - December 7th
DESCRIPTION:
URL:https://louisianadems.org/event/open-general-congressional-election-day/
LOCATION:LA
ATTACH;FMTTYPE=image/png:https://louisianadems.org/wp-content/uploads/2024/05/Events-Background-Image-1.png
END:VEVENT
BEGIN:VEVENT
DTSTART;VALUE=DATE:20241122
DTEND;VALUE=DATE:20241201
DTSTAMP:20260424T001458
CREATED:20240523T172918Z
LAST-MODIFIED:20240624T164245Z
UID:1998-1732233600-1733011199@louisianadems.org
SUMMARY:Early Voting - December 7th Election
DESCRIPTION:
URL:https://louisianadems.org/event/early-voting-december-7/
LOCATION:LA
ATTACH;FMTTYPE=image/png:https://louisianadems.org/wp-content/uploads/2024/05/Events-Background-Image-1.png
END:VEVENT
BEGIN:VEVENT
DTSTART;VALUE=DATE:20241116
DTEND;VALUE=DATE:20241117
DTSTAMP:20260424T001458
CREATED:20240523T172531Z
LAST-MODIFIED:20240624T165520Z
UID:1994-1731715200-1731801599@louisianadems.org
SUMMARY:Geaux Vote Online Registration Deadline - December 7th Election
DESCRIPTION:
URL:https://louisianadems.org/event/geaux-vote-online-registration-deadline-december-7/
LOCATION:LA
ATTACH;FMTTYPE=image/png:https://louisianadems.org/wp-content/uploads/2024/05/Events-Background-Image-1.png
END:VEVENT
BEGIN:VEVENT
DTSTART;VALUE=DATE:20241106
DTEND;VALUE=DATE:20241107
DTSTAMP:20260424T001458
CREATED:20240523T172332Z
LAST-MODIFIED:20240624T165229Z
UID:1988-1730851200-1730937599@louisianadems.org
SUMMARY:In Person/By Mail Registration Deadline - December 7th Election
DESCRIPTION:
URL:https://louisianadems.org/event/in-person-by-mail-registration-deadline-december-7/
LOCATION:LA
ATTACH;FMTTYPE=image/png:https://louisianadems.org/wp-content/uploads/2024/05/Events-Background-Image-1.png
END:VEVENT
BEGIN:VEVENT
DTSTART;VALUE=DATE:20241105
DTEND;VALUE=DATE:20241106
DTSTAMP:20260424T001458
CREATED:20240522T194741Z
LAST-MODIFIED:20240624T165128Z
UID:1945-1730764800-1730851199@louisianadems.org
SUMMARY:Open Primary/ Presidential/Congressional Election Day - November 5th
DESCRIPTION:Polls open from 6:00am – 8:oopm
URL:https://louisianadems.org/event/election-day/
LOCATION:LA
ATTACH;FMTTYPE=image/png:https://louisianadems.org/wp-content/uploads/2024/05/Events-Background-Image-1.png
END:VEVENT
BEGIN:VEVENT
DTSTART;VALUE=DATE:20241018
DTEND;VALUE=DATE:20241030
DTSTAMP:20260424T001458
CREATED:20240523T172705Z
LAST-MODIFIED:20240624T164340Z
UID:1996-1729209600-1730246399@louisianadems.org
SUMMARY:Early Voting - November 5th Election
DESCRIPTION:
URL:https://louisianadems.org/event/early-voting-november-5/
LOCATION:LA
ATTACH;FMTTYPE=image/png:https://louisianadems.org/wp-content/uploads/2024/05/Events-Background-Image-1.png
END:VEVENT
BEGIN:VEVENT
DTSTART;VALUE=DATE:20241015
DTEND;VALUE=DATE:20241016
DTSTAMP:20260424T001458
CREATED:20240523T172446Z
LAST-MODIFIED:20240624T164829Z
UID:1992-1728950400-1729036799@louisianadems.org
SUMMARY:Geaux Vote Online Registration Deadline - November 5th Election
DESCRIPTION:
URL:https://louisianadems.org/event/geaux-vote-online-registration-deadline-november-5/
LOCATION:LA
ATTACH;FMTTYPE=image/png:https://louisianadems.org/wp-content/uploads/2024/05/Events-Background-Image-1.png
END:VEVENT
BEGIN:VEVENT
DTSTART;TZID=UTC:20241012T190000
DTEND;TZID=UTC:20241012T220000
DTSTAMP:20260424T001458
CREATED:20240923T174734Z
LAST-MODIFIED:20240923T174801Z
UID:2318-1728759600-1728770400@louisianadems.org
SUMMARY:St. Tammany DPEC - 4th Annual Kathleen Babineaux Blanco Gala
DESCRIPTION:
URL:https://louisianadems.org/event/st-tammany-dpec-4th-annual-kathleen-babineaux-blanco-gala/
LOCATION:St. August Maison\, 153 Robert St\, Slidell\, LA\, 70458
ATTACH;FMTTYPE=image/png:https://louisianadems.org/wp-content/uploads/2024/05/Events-Background-Image-1.png
END:VEVENT
BEGIN:VEVENT
DTSTART;VALUE=DATE:20241007
DTEND;VALUE=DATE:20241008
DTSTAMP:20260424T001458
CREATED:20240523T172243Z
LAST-MODIFIED:20240624T164202Z
UID:1986-1728259200-1728345599@louisianadems.org
SUMMARY:In Person/By Mail Registration Deadline - November 5th Election
DESCRIPTION:
URL:https://louisianadems.org/event/in-person-by-mail-registration-deadline-november-5th-election/
LOCATION:LA
ATTACH;FMTTYPE=image/png:https://louisianadems.org/wp-content/uploads/2024/05/Events-Background-Image-1.png
END:VEVENT
BEGIN:VEVENT
DTSTART;TZID=UTC:20240926T183000
DTEND;TZID=UTC:20240926T183000
DTSTAMP:20260424T001458
CREATED:20240923T173830Z
LAST-MODIFIED:20240923T174102Z
UID:2314-1727375400-1727375400@louisianadems.org
SUMMARY:Iberville Democratic Parish Executive Committee - Candidates Forum
DESCRIPTION:
URL:https://louisianadems.org/event/iberville-democratic-parish-executive-committee-candidates-forum/
LOCATION:Iberville Parish Courthouse\, 58050 Meriam Street\, Plaquemine\, LA\, 70764
ATTACH;FMTTYPE=image/png:https://louisianadems.org/wp-content/uploads/2024/05/Events-Background-Image-1.png
END:VEVENT
BEGIN:VEVENT
DTSTART;TZID=UTC:20240814T190000
DTEND;TZID=UTC:20240814T190000
DTSTAMP:20260424T001458
CREATED:20240808T184632Z
LAST-MODIFIED:20240809T140011Z
UID:2285-1723662000-1723662000@louisianadems.org
SUMMARY:Louisiana Queers for Kamala Zoom Event
DESCRIPTION:Join the Louisiana Democratic Party’s LGBTQ+ Caucus Zoom Call for Kamala Harris!\nAll LGBTQ+ people and allies are welcome.\nYou Must Register to Attend: https://bit.ly/laqueersforkamala\n\nWe’ll be discussing: \n\nThe Urgency of electing Kamala Harris and what’s at stake.\nHow you can get involved.\nLGBTQ+ caucus: who we are and what we’re doing.\n\nFeaturing a variety of special guests: \n\nBIG FREEDIA\nPUNKIE JOHNSON\nSTORMY DANIELS\nPublic Service Commissioner Davante Lewis\nLouisiana Democratic Party Chair Randal Gaines\nMarcelle Beaulieu of Louisianahbrah\nLGBTLOL Queer Comedy Fest Founder Ryan Rogers\nDrag Queen Santana A. Savage\nDSCC Exec Dir Drew Prestridge\nFormer DSCC Exec Dir Stephen Handwerk\nLouisiana Lefty Producer Lynda Woolard\nSarahJane Guidry of Forum for Equality\nActivist Mariah Moore\nCongressional Candidate Mel Manuel
URL:https://louisianadems.org/event/louisiana-queers-for-kamala-zoom-event/
LOCATION:Zoom
ATTACH;FMTTYPE=image/png:https://louisianadems.org/wp-content/uploads/2024/08/Queers-For-Kamala.png
END:VEVENT
BEGIN:VEVENT
DTSTART;TZID=UTC:20240814T170000
DTEND;TZID=UTC:20240814T210000
DTSTAMP:20260424T001458
CREATED:20240809T200955Z
LAST-MODIFIED:20240809T200955Z
UID:2290-1723654800-1723669200@louisianadems.org
SUMMARY:Dine with the Dems
DESCRIPTION:“Come meet the Chair of the Louisiana Democratic Party and other Local Leaders”
URL:https://louisianadems.org/event/dine-with-the-dems/
LOCATION:Slidell\, 1901 Bayou Lane\, Slidell\, LA
ATTACH;FMTTYPE=image/png:https://louisianadems.org/wp-content/uploads/2024/08/imagepng_0.png
END:VEVENT
BEGIN:VEVENT
DTSTART;TZID=UTC:20240801T160000
DTEND;TZID=UTC:20240801T183000
DTSTAMP:20260424T001458
CREATED:20240726T002820Z
LAST-MODIFIED:20240726T003747Z
UID:2252-1722528000-1722537000@louisianadems.org
SUMMARY:Chair's Tour - Lafayette
DESCRIPTION:
URL:https://louisianadems.org/event/chairs-tour/
LOCATION:Lafayette\, 222 Rue Jefferson Street\, Lafayette\, LA
ATTACH;FMTTYPE=image/png:https://louisianadems.org/wp-content/uploads/2024/07/Road-to-Renew-Blue-1.png
END:VEVENT
BEGIN:VEVENT
DTSTART;TZID=UTC:20240731T190000
DTEND;TZID=UTC:20240731T190000
DTSTAMP:20260424T001458
CREATED:20240731T144159Z
LAST-MODIFIED:20240731T151738Z
UID:2269-1722452400-1722452400@louisianadems.org
SUMMARY:Women's Caucus Zoom Event
DESCRIPTION:THIS Wed 7/31 @7pm — Join our new Louisiana Democratic Party Women’s Caucus\, 10\,000 Women Louisiana\, and more as we come together to support Kamala Harris! \nREGISTER HERE >> bit.ly/lawomenforkamala
URL:https://louisianadems.org/event/womens-caucus-event/
LOCATION:Zoom
ATTACH;FMTTYPE=image/jpeg:https://louisianadems.org/wp-content/uploads/2024/07/Kamala-Harris-Event.jpg
END:VEVENT
BEGIN:VEVENT
DTSTART;TZID=UTC:20240730T190000
DTEND;TZID=UTC:20240730T213000
DTSTAMP:20260424T001458
CREATED:20240726T002550Z
LAST-MODIFIED:20240726T003930Z
UID:2249-1722366000-1722375000@louisianadems.org
SUMMARY:Chair's Tour - Calcasieu
DESCRIPTION:
URL:https://louisianadems.org/event/chairs-tour-calcasieu/
LOCATION:Calcasieu\, 2401 4th Ave\, Lake Charles\, LA
ATTACH;FMTTYPE=image/png:https://louisianadems.org/wp-content/uploads/2024/07/Road-to-Renew-Blue-1.png
END:VEVENT
BEGIN:VEVENT
DTSTART;TZID=UTC:20240729T150000
DTEND;TZID=UTC:20240729T170000
DTSTAMP:20260424T001458
CREATED:20240725T234906Z
LAST-MODIFIED:20240726T004012Z
UID:2244-1722265200-1722272400@louisianadems.org
SUMMARY:Chair's Tour - Bossier Caddo
DESCRIPTION:
URL:https://louisianadems.org/event/chairs-tour-bossier-caddo/
LOCATION:Bossier Caddo\, 850 City Hall Dr\, Bossier City\, LA
ATTACH;FMTTYPE=image/png:https://louisianadems.org/wp-content/uploads/2024/07/Road-to-Renew-Blue-1.png
END:VEVENT
BEGIN:VEVENT
DTSTART;TZID=UTC:20240728T170000
DTEND;TZID=UTC:20240728T190000
DTSTAMP:20260424T001458
CREATED:20240716T163802Z
LAST-MODIFIED:20240716T164011Z
UID:2184-1722186000-1722193200@louisianadems.org
SUMMARY:Deep Roots Task Force - Precinct Organizing Training Session
DESCRIPTION:
URL:https://louisianadems.org/event/deep-roots-task-force-precinct-organizing-training-session-2/
LOCATION:Opelousas\, 1203 Burr St\, Opelousas
ATTACH;FMTTYPE=image/png:https://louisianadems.org/wp-content/uploads/2024/07/precinct_organizing_training_webimage.png
END:VEVENT
BEGIN:VEVENT
DTSTART;TZID=UTC:20240727T130000
DTEND;TZID=UTC:20240727T130000
DTSTAMP:20260424T001458
CREATED:20240716T200847Z
LAST-MODIFIED:20240716T200847Z
UID:2191-1722085200-1722085200@louisianadems.org
SUMMARY:DSCC Meeting - Endorsements
DESCRIPTION:
URL:https://louisianadems.org/event/dscc-meeting-endorsements/
LOCATION:State Capitol House Chambers\, 900 N 3rd St\, Baton Rouge
ATTACH;FMTTYPE=image/png:https://louisianadems.org/wp-content/uploads/2024/05/Events-Background-Image-1.png
END:VEVENT
BEGIN:VEVENT
DTSTART;TZID=UTC:20240720T130000
DTEND;TZID=UTC:20240720T150000
DTSTAMP:20260424T001458
CREATED:20240716T155247Z
LAST-MODIFIED:20240716T162526Z
UID:2182-1721480400-1721487600@louisianadems.org
SUMMARY:Deep Roots Task Force - Precinct Organizing Training Session
DESCRIPTION:
URL:https://louisianadems.org/event/deep-roots-task-force-precinct-organizing-training-session/
LOCATION:Slidell\, 1901 Bayou Lane\, Slidell\, LA
ATTACH;FMTTYPE=image/png:https://louisianadems.org/wp-content/uploads/2024/07/precinct_organizing_training_webimage.png
END:VEVENT
BEGIN:VEVENT
DTSTART;TZID=UTC:20240717T080000
DTEND;TZID=UTC:20240719T170000
DTSTAMP:20260424T001458
CREATED:20240523T172104Z
LAST-MODIFIED:20240624T163634Z
UID:1984-1721203200-1721408400@louisianadems.org
SUMMARY:Candidate Qualifying for November 5th Election
DESCRIPTION:
URL:https://louisianadems.org/event/candidate-qualifying-for-november-5th-election/
LOCATION:LA
ATTACH;FMTTYPE=image/png:https://louisianadems.org/wp-content/uploads/2024/05/Events-Background-Image-1.png
END:VEVENT
BEGIN:VEVENT
DTSTART;TZID=UTC:20240630T150000
DTEND;TZID=UTC:20240630T150000
DTSTAMP:20260424T001458
CREATED:20240624T202300Z
LAST-MODIFIED:20240624T203050Z
UID:2171-1719759600-1719759600@louisianadems.org
SUMMARY:Legislative Wrap-Up Session
DESCRIPTION:
URL:https://louisianadems.org/event/legislative-wrap-up-session/
LOCATION:Greater Northshore Full Gospel Baptist Church\, 840 Voters Rd\, Slidell\, LA\, United States
ATTACH;FMTTYPE=image/png:https://louisianadems.org/wp-content/uploads/2024/05/Events-Background-Image-1.png
END:VEVENT
BEGIN:VEVENT
DTSTART;TZID=UTC:20240627T193000
DTEND;TZID=UTC:20240627T193000
DTSTAMP:20260424T001458
CREATED:20240624T200635Z
LAST-MODIFIED:20240624T203006Z
UID:2166-1719516600-1719516600@louisianadems.org
SUMMARY:Presidential Debate Watch Party - St. Tammany
DESCRIPTION:
URL:https://louisianadems.org/event/presidential-debate-watch-party-st-tammany/
LOCATION:St. Tammany Headquarters\, 1501 Gause\, Ste. #3\, Slidell\, LA\, United States
ATTACH;FMTTYPE=image/png:https://louisianadems.org/wp-content/uploads/2024/05/Events-Background-Image-1.png
END:VEVENT
BEGIN:VEVENT
DTSTART;TZID=UTC:20240608T120000
DTEND;TZID=UTC:20240608T160000
DTSTAMP:20260424T001458
CREATED:20240523T192134Z
LAST-MODIFIED:20240523T192150Z
UID:2011-1717848000-1717862400@louisianadems.org
SUMMARY:DSCC Meeting - Delegate Election
DESCRIPTION:
URL:https://louisianadems.org/event/dscc-meeting-delegate-election/
LOCATION:LA
ATTACH;FMTTYPE=image/png:https://louisianadems.org/wp-content/uploads/2024/05/Events-Background-Image-1.png
END:VEVENT
BEGIN:VEVENT
DTSTART;TZID=UTC:20240605T073000
DTEND;TZID=UTC:20240605T090000
DTSTAMP:20260424T001458
CREATED:20240523T171342Z
LAST-MODIFIED:20240523T171342Z
UID:1980-1717572600-1717578000@louisianadems.org
SUMMARY:Coffee with Clergy & Community
DESCRIPTION:
URL:https://louisianadems.org/event/coffee-with-clergy-community-2/
LOCATION:Ruston\, 2001 N Trenton St\, Ruston\, LA\, 71270\, United States
ATTACH;FMTTYPE=image/png:https://louisianadems.org/wp-content/uploads/2024/02/Untitled-design.png
END:VEVENT
BEGIN:VEVENT
DTSTART;TZID=UTC:20240604T173000
DTEND;TZID=UTC:20240604T190000
DTSTAMP:20260424T001458
CREATED:20240524T003249Z
LAST-MODIFIED:20240524T003519Z
UID:2014-1717522200-1717527600@louisianadems.org
SUMMARY:Destinations with Dems
DESCRIPTION:
URL:https://louisianadems.org/event/destinations-with-dems/
LOCATION:St. Joseph\, 139 Plank Rd\, St. Joseph\, 71366\, United States
ATTACH;FMTTYPE=image/png:https://louisianadems.org/wp-content/uploads/2024/05/Destination-with-Dems-Background.png
END:VEVENT
BEGIN:VEVENT
DTSTART;TZID=UTC:20240601T073000
DTEND;TZID=UTC:20240601T090000
DTSTAMP:20260424T001458
CREATED:20240523T171147Z
LAST-MODIFIED:20240523T171147Z
UID:1974-1717227000-1717232400@louisianadems.org
SUMMARY:Coffee with Clergy & Community
DESCRIPTION:
URL:https://louisianadems.org/event/coffee-with-clergy-community-7/
LOCATION:Leesville\, 200 Nona Street\, Leesville\, LA\, 71446\, United States
ATTACH;FMTTYPE=image/png:https://louisianadems.org/wp-content/uploads/2024/02/Untitled-design.png
END:VEVENT
BEGIN:VEVENT
DTSTART;TZID=UTC:20240325T073000
DTEND;TZID=UTC:20240325T090000
DTSTAMP:20260424T001458
CREATED:20240204T030416Z
LAST-MODIFIED:20240223T005839Z
UID:1701-1711351800-1711357200@louisianadems.org
SUMMARY:Coffee with Clergy & Community
DESCRIPTION:
URL:https://louisianadems.org/event/coffee-with-clergy-community-6/
LOCATION:Baton Rouge\, 701 Government Street\, Baton Rouge\, 70802\, United States
ATTACH;FMTTYPE=image/png:https://louisianadems.org/wp-content/uploads/2024/02/Untitled-design.png
END:VEVENT
BEGIN:VEVENT
DTSTART;TZID=UTC:20240318T073000
DTEND;TZID=UTC:20240318T090000
DTSTAMP:20260424T001458
CREATED:20240204T030200Z
LAST-MODIFIED:20240223T005810Z
UID:1700-1710747000-1710752400@louisianadems.org
SUMMARY:Coffee with Clergy & Community
DESCRIPTION:
URL:https://louisianadems.org/event/coffee-with-clergy-community-5/
LOCATION:Alexandria\, 2830 South MacArthur Drive\, Alexandria\, 71303\, United States
ATTACH;FMTTYPE=image/png:https://louisianadems.org/wp-content/uploads/2024/02/Untitled-design.png
END:VEVENT
END:VCALENDAR