BEGIN:VCALENDAR
VERSION:2.0
PRODID:-//Louisiana Democratic Party - ECPv6.15.15//NONSGML v1.0//EN
CALSCALE:GREGORIAN
METHOD:PUBLISH
X-WR-CALNAME:Louisiana Democratic Party
X-ORIGINAL-URL:https://louisianadems.org
X-WR-CALDESC:Events for Louisiana Democratic Party
REFRESH-INTERVAL;VALUE=DURATION:PT1H
X-Robots-Tag:noindex
X-PUBLISHED-TTL:PT1H
BEGIN:VTIMEZONE
TZID:UTC
BEGIN:STANDARD
TZOFFSETFROM:+0000
TZOFFSETTO:+0000
TZNAME:UTC
DTSTART:20250101T000000
END:STANDARD
END:VTIMEZONE
BEGIN:VEVENT
DTSTART;TZID=UTC:20260613T080000
DTEND;TZID=UTC:20260620T180000
DTSTAMP:20260423T232132
CREATED:20260127T180439Z
LAST-MODIFIED:20260127T182148Z
UID:2683-1781337600-1781978400@louisianadems.org
SUMMARY:Early Voting - June 27th Election
DESCRIPTION:2nd Party Primary/Municipal Primary\nClick on links below to get additional information about Early Voting. \nEarly Vote Locations \nSOS Early Vote Info
URL:https://louisianadems.org/event/early-voting-june-27th-election/
ATTACH;FMTTYPE=image/png:https://louisianadems.org/wp-content/uploads/2024/05/Events-Background-Image-1.png
END:VEVENT
BEGIN:VEVENT
DTSTART;TZID=UTC:20260627T070000
DTEND;TZID=UTC:20260627T200000
DTSTAMP:20260423T232132
CREATED:20260127T182925Z
LAST-MODIFIED:20260127T182925Z
UID:2697-1782543600-1782590400@louisianadems.org
SUMMARY:Election Day - June 27th
DESCRIPTION:2nd Party Primary/Municipal General\nFind out what is on your ballot\, where you vote\, and other info by clicking the link below. \nhttps://voterportal.sos.la.gov/Home/VoterLogin
URL:https://louisianadems.org/event/election-day-june-27th/
ATTACH;FMTTYPE=image/png:https://louisianadems.org/wp-content/uploads/2024/05/Events-Background-Image-1.png
END:VEVENT
BEGIN:VEVENT
DTSTART;TZID=UTC:20261020T080000
DTEND;TZID=UTC:20261027T190000
DTSTAMP:20260423T232132
CREATED:20260127T180746Z
LAST-MODIFIED:20260127T180746Z
UID:2685-1792483200-1793127600@louisianadems.org
SUMMARY:Early Vote - November 3rd Election
DESCRIPTION:Congressional General/Open Primary\nClick on links below to get additional information about Early Voting. \nEarly Vote Locations \nSOS Early Vote Info
URL:https://louisianadems.org/event/early-vote-november-3rd-election/
ATTACH;FMTTYPE=image/png:https://louisianadems.org/wp-content/uploads/2024/05/Events-Background-Image-1.png
END:VEVENT
BEGIN:VEVENT
DTSTART;TZID=UTC:20261103T060000
DTEND;TZID=UTC:20261103T200000
DTSTAMP:20260423T232132
CREATED:20260127T183243Z
LAST-MODIFIED:20260127T183243Z
UID:2699-1793685600-1793736000@louisianadems.org
SUMMARY:Election Day - November 3rd
DESCRIPTION:Congressional General/Open Primary\nFind out what is on your ballot\, where you vote\, and other info by clicking the link below. \nhttps://voterportal.sos.la.gov/Home/VoterLogin
URL:https://louisianadems.org/event/election-day-november-3rd/
ATTACH;FMTTYPE=image/png:https://louisianadems.org/wp-content/uploads/2024/05/Events-Background-Image-1.png
END:VEVENT
BEGIN:VEVENT
DTSTART;TZID=UTC:20261128T080000
DTEND;TZID=UTC:20261205T180000
DTSTAMP:20260423T232132
CREATED:20260127T180945Z
LAST-MODIFIED:20260127T180945Z
UID:2687-1795852800-1796493600@louisianadems.org
SUMMARY:Early Voting - December 12th Election
DESCRIPTION:Open General\nClick on links below to get additional information about Early Voting. \nEarly Vote Locations \nSOS Early Vote Info
URL:https://louisianadems.org/event/early-voting-december-12th-election/
ATTACH;FMTTYPE=image/png:https://louisianadems.org/wp-content/uploads/2024/05/Events-Background-Image-1.png
END:VEVENT
BEGIN:VEVENT
DTSTART;TZID=UTC:20261212T070000
DTEND;TZID=UTC:20261212T200000
DTSTAMP:20260423T232132
CREATED:20260127T183637Z
LAST-MODIFIED:20260127T183637Z
UID:2701-1797058800-1797105600@louisianadems.org
SUMMARY:Election Day - December 12th
DESCRIPTION:Open General\nFind out what is on your ballot\, where you vote\, and other info by clicking the link below. \nhttps://voterportal.sos.la.gov/Home/VoterLogin
URL:https://louisianadems.org/event/election-day-december-12th/
ATTACH;FMTTYPE=image/png:https://louisianadems.org/wp-content/uploads/2024/05/Events-Background-Image-1.png
END:VEVENT
END:VCALENDAR