BEGIN:VCALENDAR
VERSION:2.0
PRODID:-//Louisiana Democratic Party - ECPv6.15.15//NONSGML v1.0//EN
CALSCALE:GREGORIAN
METHOD:PUBLISH
X-WR-CALNAME:Louisiana Democratic Party
X-ORIGINAL-URL:https://louisianadems.org
X-WR-CALDESC:Events for Louisiana Democratic Party
REFRESH-INTERVAL;VALUE=DURATION:PT1H
X-Robots-Tag:noindex
X-PUBLISHED-TTL:PT1H
BEGIN:VTIMEZONE
TZID:UTC
BEGIN:STANDARD
TZOFFSETFROM:+0000
TZOFFSETTO:+0000
TZNAME:UTC
DTSTART:20250101T000000
END:STANDARD
END:VTIMEZONE
BEGIN:VEVENT
DTSTART;TZID=UTC:20260613T080000
DTEND;TZID=UTC:20260620T180000
DTSTAMP:20260423T193956
CREATED:20260127T180439Z
LAST-MODIFIED:20260127T182148Z
UID:2683-1781337600-1781978400@louisianadems.org
SUMMARY:Early Voting - June 27th Election
DESCRIPTION:2nd Party Primary/Municipal Primary\nClick on links below to get additional information about Early Voting. \nEarly Vote Locations \nSOS Early Vote Info
URL:https://louisianadems.org/event/early-voting-june-27th-election/
ATTACH;FMTTYPE=image/png:https://louisianadems.org/wp-content/uploads/2024/05/Events-Background-Image-1.png
END:VEVENT
END:VCALENDAR