BEGIN:VCALENDAR
VERSION:2.0
PRODID:-//Louisiana Democratic Party - ECPv6.15.15//NONSGML v1.0//EN
CALSCALE:GREGORIAN
METHOD:PUBLISH
X-WR-CALNAME:Louisiana Democratic Party
X-ORIGINAL-URL:https://louisianadems.org
X-WR-CALDESC:Events for Louisiana Democratic Party
REFRESH-INTERVAL;VALUE=DURATION:PT1H
X-Robots-Tag:noindex
X-PUBLISHED-TTL:PT1H
BEGIN:VTIMEZONE
TZID:UTC
BEGIN:STANDARD
TZOFFSETFROM:+0000
TZOFFSETTO:+0000
TZNAME:UTC
DTSTART:20230101T000000
END:STANDARD
END:VTIMEZONE
BEGIN:VEVENT
DTSTART;TZID=UTC:20240630T150000
DTEND;TZID=UTC:20240630T150000
DTSTAMP:20260425T113408
CREATED:20240624T202300Z
LAST-MODIFIED:20240624T203050Z
UID:2171-1719759600-1719759600@louisianadems.org
SUMMARY:Legislative Wrap-Up Session
DESCRIPTION:
URL:https://louisianadems.org/event/legislative-wrap-up-session/
LOCATION:Greater Northshore Full Gospel Baptist Church\, 840 Voters Rd\, Slidell\, LA\, United States
ATTACH;FMTTYPE=image/png:https://louisianadems.org/wp-content/uploads/2024/05/Events-Background-Image-1.png
END:VEVENT
END:VCALENDAR